Workbook

Sheet OPTIONS - MARGIN INTERVALS
A1: MAY 7, 2026
A2: ="MARGIN INTERVALS EFFECTIVE ON "&A1 -> MARGIN INTERVALS EFFECTIVE ON MAY 7, 2026
A3: UNDERLYING SYMBOL | B3: NAME | C3: PREVIOUS MARGIN INTERVALS | D3: UPDATED MARGIN INTERVALS | E3: CONVERGE (YES=1) | F3: ADJUSTED (YES =1)
A5: AAPL | B5: Apple CDR | C5: 0.083369565 | D5: 0.083848839 | E5: 0 | F5: 0
A6: AAUC | B6: Allied Gold Corporation | C6: 0.17381987 | D6: 0.17457834 | E6: 0 | F6: 0
A7: AAV | B7: Advantage Oil & Gas Ltd. | C7: 0.12605949 | D7: 0.12605435 | E7: 0 | F7: 0
A8: ABX | B8: Barrick Mining Corporation | C8: 0.14832791 | D8: 0.14793577 | E8: 0 | F8: 0
A9: AC | B9: Air Canada | C9: 0.15265012 | D9: 0.15288061 | E9: 0 | F9: 0
A10: ACB | B10: Aurora Cannabis Inc. | C10: 0.2565713 | D10: 0.25652721 | E10: 0 | F10: 0
A11: ACO.X | B11: Atco Ltd. | C11: 0.057830613 | D11: 0.05774041 | E11: 0 | F11: 0
A12: ACQ | B12: AutoCanada Inc. | C12: 0.15899924 | D12: 0.15863169 | E12: 0 | F12: 0
A13: AD.UN | B13: Alaris Equity Partners Income Trust | C13: 0.095383838 | D13: 0.095321097 | E13: 0 | F13: 0
A14: AEM | B14: Agnico Eagle Mines Limited | C14: 0.15504071 | D14: 0.15459416 | E14: 0 | F14: 0
A15: AFN | B15: Ag Growth International Inc. | C15: 0.19657628 | D15: 0.19581091 | E15: 0 | F15: 0
A16: AG | B16: First Majestic Silver Corp. | C16: 0.21657796 | D16: 0.21582686 | E16: 0 | F16: 0
... A367: ZUT | B367: BMO Equal Weight Utilities Index ETF | C367: 0.061358378 | D367: 0.061240418 | E367: 0 | F367: 0

Sheet FUTURES - MARGIN INTERVALS
A2: ="MARGIN INTERVALS EFFECTIVE ON "&'OPTIONS - MARGIN INTERVALS'!A1 -> MARGIN INTERVALS EFFECTIVE ON MAY 7, 2026
A3: SYMBOL | B3: NAME | C3: PREVIOUS MARGIN INTERVALS | D3: UPDATED MARGIN INTERVALS
A5: AXF | B5: Underlying AIR Futures | C5: 0.053689482 | D5: 0.053542432
A6: BCS | B6: FTSE Canada Bank Credit Index Futures | C6: 0.00096109986 | D6: 0.00096227382
A7: CGB | B7: Ten-year Government of Canada Bond Futures | C7: 0.016495772 | D7: 0.016494732
A8: CGF | B8: Five-year Government of Canada Bond Futures | C8: 0.010563791 | D8: 0.010558597
A9: CGZ | B9: Two-year Government of Canada Bond Futures | C9: 0.00543951 | D9: 0.005439891
A10: COA Tier 1 | B10: One-Month CORRA Futures | C10: 0.0019463596 | D10: 0.0019460394
A11: CRA Tier 1 | B11: Three-Month CORRA Futures | C11: 0.0014283225 | D11: 0.0014280598
A12: CRA Tier 2 | B12: Three-Month CORRA Futures | C12: 0.0030218428 | D12: 0.0030200268
A13: CRA Tier 3 | B13: Three-Month CORRA Futures | C13: 0.0033224672 | D13: 0.0033156876
A14: CRA Tier 4 | B14: Three-Month CORRA Futures | C14: 0.0029306524 | D14: 0.0029247761
A15: LGB | B15: 30-Year Government of Canada Bond Futures | C15: 0.040913149 | D15: 0.040908631
A16: SCF | B16: S&P/TSX Composite Index Mini Futures | C16: 0.055226267 | D16: 0.055069969
... A34: SXY | B34: S&P/TSX Capped Energy Index Futures | C34: 0.093940722 | D34: 0.093852623

Sheet SHARE FUTURES - MARGIN INTERVAL
A2: ="MARGIN INTERVALS EFFECTIVE ON "&'OPTIONS - MARGIN INTERVALS'!A1 -> MARGIN INTERVALS EFFECTIVE ON MAY 7, 2026
A3: SYMBOL | B3: NAME | C3: PREVIOUS MARGIN INTERVALS | D3: UPDATED MARGIN INTERVALS
A5: FAA | B5: Aecon Group Inc. | C5: 0.13277818 | D5: 0.13244211
A6: FAE | B6: Agnico Eagle Mines Limited | C6: 0.15504071 | D6: 0.15459416
A7: FAL | B7: AltaGas Ltd. | C7: 0.067958597 | D7: 0.067951125
A8: FAX | B8: ARC Resources Ltd. | C8: 0.13216343 | D8: 0.1317143
A9: FBA | B9: Barrick Mining Corporation | C9: 0.14832791 | D9: 0.14793577
A10: FBC | B10: BCE Inc. | C10: 0.067125081 | D10: 0.067005321
A11: FBO | B11: Bank of Montreal | C11: 0.075886914 | D11: 0.075720692
A12: FCB | B12: Canadian Imperial Bank of Commerce | C12: 0.07606839 | D12: 0.075830675
A13: FCL | B13: AtkinsRéalis Group Inc | C13: 0.10993966 | D13: 0.10957969
A14: FCN | B14: Canadian National Railway Company | C14: 0.070063856 | D14: 0.069851326
A15: FCQ | B15: Canadian Natural Resources Limited | C15: 0.12324929 | D15: 0.12295022
A16: FCT | B16: Canadian Tire Corporation Limited Class A | C16: 0.069161412 | D16: 0.06897352
... A95: FZN | B95: BMO S&P/TSX Capped Composite Index ETF | C95: 0.055936538 | D95: 0.055777301

Sheet COA - INTRA-COMMODITY
A2: ="COA TIER STRUCTURE ON "&'OPTIONS - MARGIN INTERVALS'!A1 -> COA TIER STRUCTURE ON MAY 7, 2026
B3: Group | C3: Name | D3: Expiry
B5: 1 | C5: COA1 | D5: 202606
C6: COA2 | D6: 202607
C7: COA3 | D7: 202608
C8: COA4 | D8: 202609
A10: ="INTRA-COMMODITY SPREAD CHARGES - MONTHLY BUTTERFLY ON "&'OPTIONS - MARGIN INTERVALS'!A1 -> INTRA-COMMODITY SPREAD CHARGES - MONTHLY BUTTERFLY ON MAY 7, 2026
B11: Strategy | C11: Previous Butterfly Spread Charge (CAN$) | D11: UPDATED Butterfly Spread Charge (CAN$)
B13: COA1-COA2-COA3 | C13: 645 | D13: 645
B14: COA2-COA3-COA4 | C14: 391 | D14: 390
A16: ="INTRA-COMMODITY SPREAD CHARGES - INTER-MONTH STRATEGY ON "&'OPTIONS - MARGIN INTERVALS'!A1 -> INTRA-COMMODITY SPREAD CHARGES - INTER-MONTH STRATEGY ON MAY 7, 2026
B17: Tier | C17: 1
B19: 1 | C19: 461

Sheet CRA - INTRA-COMMODITY
A2: ="CRA TIER STRUCTURE ON "&'OPTIONS - MARGIN INTERVALS'!A1 -> CRA TIER STRUCTURE ON MAY 7, 2026
B3: Group | C3: Name | D3: Expiry
B5: 1 | C5: CRA1 | D5: 202606
C6: CRA2 | D6: 202609
B7: 2 | C7: CRA3 | D7: 202612
C8: CRA4 | D8: 202703
B9: 3 | C9: CRA5 | D9: 202706
C10: CRA6 | D10: 202709
C11: CRA7 | D11: 202712
C12: CRA8 | D12: 202803
B13: 4 | C13: CRA9 | D13: 202806
C14: CRA10 | D14: 202809
C15: CRA11 | D15: 202812
C16: CRA12 | D16: 202903
A18: ="INTRA-COMMODITY SPREAD CHARGES - QUARTELY BUTTERFLY ON "&'OPTIONS - MARGIN INTERVALS'!A1 -> INTRA-COMMODITY SPREAD CHARGES - QUARTELY BUTTERFLY ON MAY 7, 2026
B19: Strategy | C19: Previous Butterfly Spread Charge (CAN$) | D19: UPDATED Butterfly Spread Charge (CAN$)
B21: CRA1-CRA2-CRA3 | C21: 0 | D21: 0
B22: CRA2-CRA3-CRA4 | C22: 0 | D22: 0
B23: CRA3-CRA4-CRA5 | C23: 216 | D23: 217
B24: CRA4-CRA5-CRA6 | C24: 178 | D24: 179
B25: CRA5-CRA6-CRA7 | C25: 261 | D25: 261
B26: CRA6-CRA7-CRA8 | C26: 265 | D26: 265
B27: CRA7-CRA8-CRA9 | C27: 163 | D27: 163
B28: CRA8-CRA9-CRA10 | C28: 152 | D28: 152
B29: CRA9-CRA10-CRA11 | C29: 237 | D29: 237
B30: CRA10-CRA11-CRA12 | C30: 227 | D30: 227
A32: ="INTRA-COMMODITY SPREAD CHARGES - SIX-MONTHLY BUTTERFLY ON "&'OPTIONS - MARGIN INTERVALS'!A1 -> INTRA-COMMODITY SPREAD CHARGES - SIX-MONTHLY BUTTERFLY ON MAY 7, 2026
B33: Strategy | C33: Previous Butterfly Spread Charge (CAN$) | D33: UPDATED Butterfly Spread Charge (CAN$)
B35: CRA1-CRA3-CRA5 | C35: 185 | D35: 184
B36: CRA2-CRA4-CRA6 | C36: 122 | D36: 120
B37: CRA3-CRA5-CRA7 | C37: 280 | D37: 281
B38: CRA4-CRA6-CRA8 | C38: 201 | D38: 202
B39: CRA5-CRA7-CRA9 | C39: 153 | D39: 153
B40: CRA6-CRA8-CRA10 | C40: 121 | D40: 121
B41: CRA7-CRA9-CRA11 | C41: 98 | D41: 98
B42: CRA8-CRA10-CRA12 | C42: 105 | D42: 105
A44: ="INTRA-COMMODITY SPREAD CHARGES - NINE-MONTHLY BUTTERFLY ON "&'OPTIONS - MARGIN INTERVALS'!A1 -> INTRA-COMMODITY SPREAD CHARGES - NINE-MONTHLY BUTTERFLY ON MAY 7, 2026
B45: Strategy | C45: Previous Butterfly Spread Charge (CAN$) | D45: UPDATED Butterfly Spread Charge (CAN$)
B47: CRA1-CRA4-CRA7 | C47: 438 | D47: 436
B48: CRA2-CRA5-CRA8 | C48: 198 | D48: 198
...

Sheet SDV - INTRA-COMMODITY
A2: ="SDV TIER STRUCTURE ON "&'OPTIONS - MARGIN INTERVALS'!A1 -> SDV TIER STRUCTURE ON MAY 7, 2026
B3: Group | C3: Name | D3: Expiry
B5: 1 | C5: SDV1 | D5: 202612
B6: 2 | C6: SDV2 | D6: 202712
B7: 3 | C7: SDV3 | D7: 202812
C8: SDV4 | D8: 202912
C9: SDV5 | D9: 203012
A11: ="INTRA-COMMODITY SPREAD CHARGES - INTER-MONTH STRATEGY ON "&'OPTIONS - MARGIN INTERVALS'!A1 -> INTRA-COMMODITY SPREAD CHARGES - INTER-MONTH STRATEGY ON MAY 7, 2026
A12: Tier | B12: 1 | C12: 2 | D12: 3
C13: 2 | D13: 3
A14: 1 | B14: 0 | C14: 105 | D14: 150
A15: 2 | B15: 0 | C15: 0 | D15: 253
A16: 3 | B16: 0 | C16: 0 | D16: 159

Sheet SXF - INTRA-COMMODITY
A2: ="SXF TIER STRUCTURE ON "&'OPTIONS - MARGIN INTERVALS'!A1 -> SXF TIER STRUCTURE ON MAY 7, 2026
B3: Group | C3: Name | D3: Expiry
B5: 1 | C5: SXF1 | D5: 202606
C6: SXF2 | D6: 202609
C7: SXF3 | D7: 202612
C8: SXF4 | D8: 202703
B9: 2 | C9: SXF5 | D9: 202712
C10: SXF6 | D10: 202812
B11: 3 | C11: SXF7 | D11: 202912
C12: SXF8 | D12: 203012
A14: ="INTRA-COMMODITY SPREAD CHARGES - INTER-MONTH STRATEGY ON "&'OPTIONS - MARGIN INTERVALS'!A1 -> INTRA-COMMODITY SPREAD CHARGES - INTER-MONTH STRATEGY ON MAY 7, 2026
A15: Tier | B15: 1 | C15: 2 | D15: 3
C16: 2 | D16: 3
A17: 1 | B17: 500 | C17: 2176 | D17: 3611
A18: 2 | B18: 0 | C18: 990 | D18: 2405
A19: 3 | B19: 0 | C19: 0 | D19: 1027

Sheet AXF - INTRA-COMMODITY
A2: ="AXF TIER STRUCTURE ON "&'OPTIONS - MARGIN INTERVALS'!A1 -> AXF TIER STRUCTURE ON MAY 7, 2026
B3: Group | C3: Name | D3: Expiry
B5: 1 | C5: AXF1 | D5: 202606
C6: AXF2 | D6: 202609
C7: AXF3 | D7: 202612
C8: AXF4 | D8: 202703
B9: 2 | C9: AXF5 | D9: 202712
C10: AXF6 | D10: 202812
B11: 3 | C11: AXF7 | D11: 202912
C12: AXF8 | D12: 203012
A14: ="INTRA-COMMODITY SPREAD CHARGES - INTER-MONTH STRATEGY ON "&'OPTIONS - MARGIN INTERVALS'!A1 -> INTRA-COMMODITY SPREAD CHARGES - INTER-MONTH STRATEGY ON MAY 7, 2026
A15: Tier | B15: 1 | C15: 2 | D15: 3
C16: 2 | D16: 3
A17: 1 | B17: 2185 | C17: 2018 | D17: 1784
A18: 2 | B18: 0 | C18: 2183 | D18: 1936
A19: 3 | B19: 0 | C19: 0 | D19: 2196

Sheet FUTURES - INTRA-COMMODITY
A2: ="INTRA-COMMODITY (Inter-Month) SPREAD CHARGES EFFECTIVE ON "&'OPTIONS - MARGIN INTERVALS'!A1 -> INTRA-COMMODITY (Inter-Month) SPREAD CHARGES EFFECTIVE ON MAY 7, 2026
A3: SYMBOL | B3: NAME | C3: PREVIOUS Inter-Month Spread Charge (CAN$) | D3: UPDATED Inter-Month Spread Charge (CAN$)
A5: BCS | B5: FTSE Canada Bank Credit Index Futures | C5: 125 | D5: 125
A6: CGB | B6: Ten-year Government of Canada Bond Futures | C6: 450 | D6: 450
A7: CGF | B7: Five-year Government of Canada Bond Futures | C7: 450 | D7: 450
A8: CGZ | B8: Two-year Government of Canada Bond Futures | C8: 225 | D8: 225
A9: LGB | B9: 30-Year Government of Canada Bond Futures | C9: 450 | D9: 450
A10: SCF | B10: S&P/TSX Composite Index Mini Futures | C10: 200 | D10: 200
A11: SCG | B11: S&P/TSX Composite ESG Index Futures | C11: 200 | D11: 200
A12: SEG | B12: S&P/TSX 60 ESG Index Futures | C12: 125 | D12: 125
A13: SXA | B13: S&P/TSX Global Gold Index Futures | C13: 100 | D13: 100
A14: SXB | B14: S&P/TSX Capped Financials Index Futures | C14: 100 | D14: 100
A15: SXD | B15: S&P/TSX Composite Energy GICS Sector Total Return Index Futures | C15: 100 | D15: 100
A16: SXG | B16: S&P/TSX Composite Financials GICS Level Sector Total Return Index Futures | C16: 100 | D16: 100
... A24: SXY | B24: S&P/TSX Capped Energy Index Futures | C24: 100 | D24: 100
A30: ="SHARE FUTURES INTRA-COMMODITY (Inter-Month) SPREAD CHARGES EFFECTIVE ON "&'OPTIONS - MARGIN INTERVALS'!A1 -> SHARE FUTURES INTRA-COMMODITY (Inter-Month) SPREAD CHARGES EFFECTIVE ON MAY 7, 2026
A31: SYMBOL | B31: NAME | C31: PREVIOUS Inter-Month Spread Charge (CAN$) | D31: UPDATED Inter-Month Spread Charge (CAN$)
A33: FAA | B33: Aecon Group Inc. | C33: 75 | D33: 75
A34: FAE | B34: Agnico Eagle Mines Limited | C34: 75 | D34: 75
A35: FAL | B35: AltaGas Ltd. | C35: 75 | D35: 75
A36: FAX | B36: ARC Resources Ltd. | C36: 75 | D36: 75
A37: FBA | B37: Barrick Mining Corporation | C37: 75 | D37: 75
A38: FBC | B38: BCE Inc. | C38: 75 | D38: 75
A39: FBO | B39: Bank of Montreal | C39: 75 | D39: 75
A40: FCB | B40: Canadian Imperial Bank of Commerce | C40: 75 | D40: 75
A41: FCL | B41: AtkinsRéalis Group Inc | C41: 75 | D41: 75
A42: FCN | B42: Canadian National Railway Company | C42: 75 | D42: 75
A43: FCQ | B43: Canadian Natural Resources Limited | C43: 75 | D43: 75
A44: FCT | B44: Canadian Tire Corporation Limited Class A | C44: 75 | D44: 75
... A123: FZN | B123: BMO S&P/TSX Capped Composite Index ETF | C123: 75 | D123: 75

Sheet FUTURES - INTER-COMMODITY
A2: ="INTEREST RATE FUTURES INTER-COMMODITY SPREAD CHARGES EFFECTIVE ON "&'OPTIONS - MARGIN INTERVALS'!A1 -> INTEREST RATE FUTURES INTER-COMMODITY SPREAD CHARGES EFFECTIVE ON MAY 7, 2026
A3: Symbol (Combinations) | B3: Hedge Ratio A | C3: Hedge Ratio B | D3: PREVIOUS Margin Relief | E3: UPDATED Margin Relief
A5: CGB - CGF | B5: 1 | C5: 2 | D5: 0.84 | E5: 0.84
A6: CGB - LGB | B6: 3 | C6: 1 | D6: 0.73 | E6: 0.73
A7: CGF - CGZ | B7: 1 | C7: 3 | D7: 0.69 | E7: 0.69
A8: CGF - LGB | B8: 6 | C8: 1 | D8: 0.64 | E8: 0.64
A9: CGB - CGZ | B9: 1 | C9: 5 | D9: 0.62 | E9: 0.62
A10: CGZ - LGB | B10: 20 | C10: 1 | D10: 0.51 | E10: 0.51
A11: CRA - COA | B11: 2 | C11: 1 | D11: 0.04 | E11: 0.03
A17: ="INDEX, SECTORIAL AND SHARE FUTURES INTER-COMMODITY SPREAD CHARGES EFFECTIVE ON "&'OPTIONS - MARGIN INTERVALS'!A1 -> INDEX, SECTORIAL AND SHARE FUTURES INTER-COMMODITY SPREAD CHARGES EFFECTIVE ON MAY 7, 2026
A18: Symbol (Combinations) | B18: Hedge Ratio A | C18: Hedge Ratio B | D18: PREVIOUS Margin Relief | E18: UPDATED Margin Relief
A20: SXF - SXM | B20: 1 | C20: 4 | D20: 1 | E20: 1
A21: AXF - SCF | B21: 1 | C21: 2 | D21: 0.9 | E21: 0.9
A22: SXA - FXG | B22: 1 | C22: 32 | D22: 0.9 | E22: 0.9
A23: SXB - FXN | B23: 1 | C23: 16 | D23: 0.9 | E23: 0.9
A24: SXY - FEG | B24: 1 | C24: 31 | D24: 0.9 | E24: 0.9
A25: SXM - FIU | B25: 1 | C25: 20 | D25: 0.9 | E25: 0.9
A26: SXF - FIU | B26: 1 | C26: 80 | D26: 0.9 | E26: 0.9
A27: SXF - FXT | B27: 1 | C27: 45 | D27: 0.9 | E27: 0.9
A28: AXF - SXM | B28: 1 | C28: 4 | D28: 0.89 | E28: 0.89
A29: AXF - SXF | B29: 1 | C29: 1 | D29: 0.89 | E29: 0.89
A30: SCF - FZN | B30: 1 | C30: 37 | D30: 0.89 | E30: 0.89
A31: SCF - FIC | B31: 1 | C31: 31 | D31: 0.89 | E31: 0.89
... A260: SXF - FOC | B260: 1 | C260: 3 | D260: 0.16 | E260: 0.16

Sheet OPTIONS - INTERVALLES DE MARGE
A1: 7 MAY 2026
A2: ="INTERVALLES DE MARGE EN VIGUEUR LE "&A1 -> INTERVALLES DE MARGE EN VIGUEUR LE 7 MAY 2026
A3: SYMBOLE SOUS-JACENT | B3: NOM | C3: INTERVALLE DE MARGE PRÉCÉDENT | D3: INTERVALLE DE MARGE MIS À JOUR | E3: CONVERGE (OUI=1) | F3: AJUSTÉ (OUI=1)
A5: AAPL | B5: Apple CDR | C5: 0.083369565 | D5: 0.083848839 | E5: 0 | F5: 0
A6: AAUC | B6: Allied Gold Corporation | C6: 0.17381987 | D6: 0.17457834 | E6: 0 | F6: 0
A7: AAV | B7: Advantage Oil & Gas Ltd. | C7: 0.12605949 | D7: 0.12605435 | E7: 0 | F7: 0
A8: ABX | B8: Barrick Mining Corporation | C8: 0.14832791 | D8: 0.14793577 | E8: 0 | F8: 0
A9: AC | B9: Air Canada | C9: 0.15265012 | D9: 0.15288061 | E9: 0 | F9: 0
A10: ACB | B10: Aurora Cannabis Inc. | C10: 0.2565713 | D10: 0.25652721 | E10: 0 | F10: 0
A11: ACO.X | B11: Atco Ltd. | C11: 0.057830613 | D11: 0.05774041 | E11: 0 | F11: 0
A12: ACQ | B12: AutoCanada Inc. | C12: 0.15899924 | D12: 0.15863169 | E12: 0 | F12: 0
A13: AD.UN | B13: Alaris Equity Partners Income Trust | C13: 0.095383838 | D13: 0.095321097 | E13: 0 | F13: 0
A14: AEM | B14: Mines Agnico Eagle Limitée | C14: 0.15504071 | D14: 0.15459416 | E14: 0 | F14: 0
A15: AFN | B15: Ag Growth International Inc | C15: 0.19657628 | D15: 0.19581091 | E15: 0 | F15: 0
A16: AG | B16: First Majestic Silver Corp. | C16: 0.21657796 | D16: 0.21582686 | E16: 0 | F16: 0
... A367: ZUT | B367: BMO Equal Weight Utilities Index ETF | C367: 0.061358378 | D367: 0.061240418 | E367: 0 | F367: 0

Sheet CAT - INTERVALLES DE MARGE
A2: ="INTERVALLES DE MARGE EN VIGUEUR LE "&'OPTIONS - INTERVALLES DE MARGE'!A1 -> INTERVALLES DE MARGE EN VIGUEUR LE 7 MAY 2026
A3: SYMBOLE | B3: NOM | C3: INTERVALLE DE MARGE PRÉCÉDENT | D3: INTERVALLE DE MARGE MIS À JOUR
A5: AXF | B5: Underlying AIR Futures | C5: 0.053689482 | D5: 0.053542432
A6: BCS | B6: FTSE Canada Bank Credit Index Futures | C6: 0.00096109986 | D6: 0.00096227382
A7: CGB | B7: Contrats à terme sur obligations du gouvernement du Canada de dix ans | C7: 0.016495772 | D7: 0.016494732
A8: CGF | B8: Contrats à terme sur obligations du gouvernement du Canada de cinq ans | C8: 0.010563791 | D8: 0.010558597
A9: CGZ | B9: Contrats à terme sur obligations du gouvernement du Canada de deux ans | C9: 0.00543951 | D9: 0.005439891
A10: COA Tier 1 | B10: Contrat à terme d’un mois sur le taux CORRA | C10: 0.0019463596 | D10: 0.0019460394
A11: CRA Tier 1 | B11: Contrat à terme de trois mois sur le taux CORRA | C11: 0.0014283225 | D11: 0.0014280598
A12: CRA Tier 2 | B12: Contrat à terme de trois mois sur le taux CORRA | C12: 0.0030218428 | D12: 0.0030200268
A13: CRA Tier 3 | B13: Contrat à terme de trois mois sur le taux CORRA | C13: 0.0033224672 | D13: 0.0033156876
A14: CRA Tier 4 | B14: Contrat à terme de trois mois sur le taux CORRA | C14: 0.0029306524 | D14: 0.0029247761
A15: LGB | B15: Contrats à terme sur obligations du gouvernement du Canada de 30 ans | C15: 0.040913149 | D15: 0.040908631
A16: SCF | B16: Contrats à terme mini sur l'indice composé S&P/TSX | C16: 0.055226267 | D16: 0.055069969
... A34: SXY | B34: Contrats à terme sur indice plafonné de l'énergie S&P/TSX | C34: 0.093940722 | D34: 0.093852623

Sheet CAT SUR ACTIONS - INTERVALLES
A2: ="INTERVALLES DE MARGE EN VIGUEUR LE "&'OPTIONS - INTERVALLES DE MARGE'!A1 -> INTERVALLES DE MARGE EN VIGUEUR LE 7 MAY 2026
A3: SYMBOLE | B3: NOM | C3: INTERVALLE DE MARGE PRÉCÉDENT | D3: INTERVALLE DE MARGE MIS À JOUR
A5: FAA | B5: Groupe Aecon Inc. | C5: 0.13277818 | D5: 0.13244211
A6: FAE | B6: Mines Agnico Eagle Limitée | C6: 0.15504071 | D6: 0.15459416
A7: FAL | B7: AltaGas Ltd. | C7: 0.067958597 | D7: 0.067951125
A8: FAX | B8: ARC Resources Ltd. | C8: 0.13216343 | D8: 0.1317143
A9: FBA | B9: Barrick Mining Corporation | C9: 0.14832791 | D9: 0.14793577
A10: FBC | B10: BCE Inc. | C10: 0.067125081 | D10: 0.067005321
A11: FBO | B11: Banque de Montréal | C11: 0.075886914 | D11: 0.075720692
A12: FCB | B12: Banque Canadienne Impériale de Commerce | C12: 0.07606839 | D12: 0.075830675
A13: FCL | B13: AtkinsRéalis Group Inc | C13: 0.10993966 | D13: 0.10957969
A14: FCN | B14: Compagnie des chemins de fer nationaux du Canada | C14: 0.070063856 | D14: 0.069851326
A15: FCQ | B15: Canadian Natural Resources Limited | C15: 0.12324929 | D15: 0.12295022
A16: FCT | B16: Société Canadian Tire Limitée Classe A | C16: 0.069161412 | D16: 0.06897352
... A95: FZN | B95: FNB BMO S&P/TSX Capped Composite Index | C95: 0.055936538 | D95: 0.055777301

Sheet COA - INTRA-MARCHANDISES
A2: ="GROUPEMENT DES COA EN VIGUEUR LE "&'OPTIONS - INTERVALLES DE MARGE'!A1 -> GROUPEMENT DES COA EN VIGUEUR LE 7 MAY 2026
B3: Groupe | C3: Nom | D3: Échéance
B5: 1 | C5: COA1 | D5: 202606
C6: COA2 | D6: 202607
C7: COA3 | D7: 202608
C8: COA4 | D8: 202609
A10: ="IMPUTATIONS POUR POSITION MIXTE INTRA-MARCHANDISE - 'BUTTERFLY' MENSUEL EN VIGUEUR LE "&'OPTIONS - INTERVALLES DE MARGE'!A1 -> IMPUTATIONS POUR POSITION MIXTE INTRA-MARCHANDISE - 'BUTTERFLY' MENSUEL EN VIGUEUR LE 7 MAY 2026
B11: Stratégie | C11: Imputation (Position "Butterfly") PRÉCÉDENTE ($CAN) | D11: Imputation (Position "Butterfly") MISE À JOUR ($CAN)
B13: COA1-COA2-COA3 | C13: 645 | D13: 645
B14: COA2-COA3-COA4 | C14: 391 | D14: 390
A16: ="IMPUTATIONS POUR POSITION MIXTE INTRA-MARCHANDISE - INTERMENSUELLE EN VIGUEUR LE "&'OPTIONS - INTERVALLES DE MARGE'!A1 -> IMPUTATIONS POUR POSITION MIXTE INTRA-MARCHANDISE - INTERMENSUELLE EN VIGUEUR LE 7 MAY 2026
B17: Tier | C17: 1
B19: 1 | C19: 461

Sheet CRA - INTRA-MARCHANDISES
A2: ="GROUPEMENT DES CRA EN VIGUEUR LE "&'OPTIONS - INTERVALLES DE MARGE'!A1 -> GROUPEMENT DES CRA EN VIGUEUR LE 7 MAY 2026
B3: Groupe | C3: Nom | D3: Échéance
B5: 1 | C5: CRA1 | D5: 202606
C6: CRA2 | D6: 202609
B7: 2 | C7: CRA3 | D7: 202612
C8: CRA4 | D8: 202703
B9: 3 | C9: CRA5 | D9: 202706
C10: CRA6 | D10: 202709
C11: CRA7 | D11: 202712
C12: CRA8 | D12: 202803
B13: 4 | C13: CRA9 | D13: 202806
C14: CRA10 | D14: 202809
C15: CRA11 | D15: 202812
C16: CRA12 | D16: 202903
A18: ="IMPUTATIONS POUR POSITION MIXTE INTRA-MARCHANDISE - 'BUTTERFLY' TRIMESTRIEL EN VIGUEUR LE "&'OPTIONS - INTERVALLES DE MARGE'!A1 -> IMPUTATIONS POUR POSITION MIXTE INTRA-MARCHANDISE - 'BUTTERFLY' TRIMESTRIEL EN VIGUEUR LE 7 MAY 2026
B19: Stratégie | C19: Imputation (Position "Butterfly") PRÉCÉDENTE ($CAN) | D19: Imputation (Position "Butterfly") MISE À JOUR ($CAN)
B21: CRA1-CRA2-CRA3 | C21: 0 | D21: 0
B22: CRA2-CRA3-CRA4 | C22: 0 | D22: 0
B23: CRA3-CRA4-CRA5 | C23: 216 | D23: 217
B24: CRA4-CRA5-CRA6 | C24: 178 | D24: 179
B25: CRA5-CRA6-CRA7 | C25: 261 | D25: 261
B26: CRA6-CRA7-CRA8 | C26: 265 | D26: 265
B27: CRA7-CRA8-CRA9 | C27: 163 | D27: 163
B28: CRA8-CRA9-CRA10 | C28: 152 | D28: 152
B29: CRA9-CRA10-CRA11 | C29: 237 | D29: 237
B30: CRA10-CRA11-CRA12 | C30: 227 | D30: 227
A32: ="IMPUTATIONS POUR POSITION MIXTE INTRA-MARCHANDISE - 'BUTTERFLY' SEMESTRIEL EN VIGUEUR LE "&'OPTIONS - INTERVALLES DE MARGE'!A1 -> IMPUTATIONS POUR POSITION MIXTE INTRA-MARCHANDISE - 'BUTTERFLY' SEMESTRIEL EN VIGUEUR LE 7 MAY 2026
B33: Stratégie | C33: Imputation (Position "Butterfly") PRÉCÉDENTE ($CAN) | D33: Imputation (Position "Butterfly") MISE À JOUR ($CAN)
B35: CRA1-CRA3-CRA5 | C35: 185 | D35: 184
B36: CRA2-CRA4-CRA6 | C36: 122 | D36: 120
B37: CRA3-CRA5-CRA7 | C37: 280 | D37: 281
B38: CRA4-CRA6-CRA8 | C38: 201 | D38: 202
B39: CRA5-CRA7-CRA9 | C39: 153 | D39: 153
B40: CRA6-CRA8-CRA10 | C40: 121 | D40: 121
B41: CRA7-CRA9-CRA11 | C41: 98 | D41: 98
B42: CRA8-CRA10-CRA12 | C42: 105 | D42: 105
A44: ="IMPUTATIONS POUR POSITION MIXTE INTRA-MARCHANDISE - 'BUTTERFLY' NEUF-MOIS EN VIGUEUR LE "&'OPTIONS - INTERVALLES DE MARGE'!A1 -> IMPUTATIONS POUR POSITION MIXTE INTRA-MARCHANDISE - 'BUTTERFLY' NEUF-MOIS EN VIGUEUR LE 7 MAY 2026
B45: Stratégie | C45: Imputation (Position "Butterfly") PRÉCÉDENTE ($CAN) | D45: Imputation (Position "Butterfly") MISE À JOUR ($CAN)
B47: CRA1-CRA4-CRA7 | C47: 438 | D47: 436
B48: CRA2-CRA5-CRA8 | C48: 198 | D48: 198
...

Sheet SDV - INTRA-MARCHANDISES
A2: ="GROUPEMENT DES SDV EN VIGUEUR LE "&'OPTIONS - INTERVALLES DE MARGE'!A1 -> GROUPEMENT DES SDV EN VIGUEUR LE 7 MAY 2026
B3: Group | C3: Name | D3: Expiry
B5: 1 | C5: SDV1 | D5: 202612
B6: 2 | C6: SDV2 | D6: 202712
B7: 3 | C7: SDV3 | D7: 202812
C8: SDV4 | D8: 202912
C9: SDV5 | D9: 203012
A11: ="IMPUTATIONS POUR POSITION MIXTE INTRA-MARCHANDISE - INTERMENSUELLE EN VIGUEUR LE "&'OPTIONS - INTERVALLES DE MARGE'!A1 -> IMPUTATIONS POUR POSITION MIXTE INTRA-MARCHANDISE - INTERMENSUELLE EN VIGUEUR LE 7 MAY 2026
A12: Tier | B12: 1 | C12: 2 | D12: 3
C13: 2 | D13: 3
A14: 1 | B14: 0 | C14: 105 | D14: 150
A15: 2 | B15: 0 | C15: 0 | D15: 253
A16: 3 | B16: 0 | C16: 0 | D16: 159

Sheet SXF - INTRA-MARCHANDISES
A2: ="GROUPEMENT DES SXF EN VIGUEUR LE "&'OPTIONS - INTERVALLES DE MARGE'!A1 -> GROUPEMENT DES SXF EN VIGUEUR LE 7 MAY 2026
B3: Group | C3: Name | D3: Expiry
B5: 1 | C5: SXF1 | D5: 202606
C6: SXF2 | D6: 202609
C7: SXF3 | D7: 202612
C8: SXF4 | D8: 202703
B9: 2 | C9: SXF5 | D9: 202712
C10: SXF6 | D10: 202812
B11: 3 | C11: SXF7 | D11: 202912
C12: SXF8 | D12: 203012
A14: ="IMPUTATIONS POUR POSITION MIXTE INTRA-MARCHANDISE - INTERMENSUELLE EN VIGUEUR LE "&'OPTIONS - INTERVALLES DE MARGE'!A1 -> IMPUTATIONS POUR POSITION MIXTE INTRA-MARCHANDISE - INTERMENSUELLE EN VIGUEUR LE 7 MAY 2026
A15: Tier | B15: 1 | C15: 2 | D15: 3
C16: 2 | D16: 3
A17: 1 | B17: 500 | C17: 2176 | D17: 3611
A18: 2 | B18: 0 | C18: 990 | D18: 2405
A19: 3 | B19: 0 | C19: 0 | D19: 1027

Sheet AXF - INTRA-MARCHANDISES
A2: ="GROUPEMENT DES AXF EN VIGUEUR LE "&'OPTIONS - INTERVALLES DE MARGE'!A1 -> GROUPEMENT DES AXF EN VIGUEUR LE 7 MAY 2026
B3: Group | C3: Name | D3: Expiry
B5: 1 | C5: AXF1 | D5: 202606
C6: AXF2 | D6: 202609
C7: AXF3 | D7: 202612
C8: AXF4 | D8: 202703
B9: 2 | C9: AXF5 | D9: 202712
C10: AXF6 | D10: 202812
B11: 3 | C11: AXF7 | D11: 202912
C12: AXF8 | D12: 203012
A14: ="IMPUTATIONS POUR POSITION MIXTE INTRA-MARCHANDISE - INTERMENSUELLE EN VIGUEUR LE "&'OPTIONS - INTERVALLES DE MARGE'!A1 -> IMPUTATIONS POUR POSITION MIXTE INTRA-MARCHANDISE - INTERMENSUELLE EN VIGUEUR LE 7 MAY 2026
A15: Tier | B15: 1 | C15: 2 | D15: 3
C16: 2 | D16: 3
A17: 1 | B17: 2185 | C17: 2018 | D17: 1784
A18: 2 | B18: 0 | C18: 2183 | D18: 1936
A19: 3 | B19: 0 | C19: 0 | D19: 2196

Sheet CAT - INTRA-MARCHANDISES
A2: ="IMPUTATIONS POUR POSITION MIXTE INTRA-MARCHANDISES INTERMENSUELLE EN VIGUEUR LE "&'OPTIONS - INTERVALLES DE MARGE'!A1 -> IMPUTATIONS POUR POSITION MIXTE INTRA-MARCHANDISES INTERMENSUELLE EN VIGUEUR LE 7 MAY 2026
A3: SYMBOLE | B3: NOM | C3: IMPUTATION INTERMENSUELLE PRÉCÉDENTE ($CAN) | D3: IMPUTATION INTERMENSUELLE MISE À JOUR ($CAN)
A5: BCS | B5: FTSE Canada Bank Credit Index Futures | C5: 125 | D5: 125
A6: CGB | B6: Contrats à terme sur obligations du gouvernement du Canada de dix ans | C6: 450 | D6: 450
A7: CGF | B7: Contrats à terme sur obligations du gouvernement du Canada de cinq ans | C7: 450 | D7: 450
A8: CGZ | B8: Contrats à terme sur obligations du gouvernement du Canada de deux ans | C8: 225 | D8: 225
A9: LGB | B9: Contrats à terme sur obligations du gouvernement du Canada de 30 ans | C9: 450 | D9: 450
A10: SCF | B10: Contrats à terme mini sur l'indice composé S&P/TSX | C10: 200 | D10: 200
A11: SCG | B11: Contrats à terme sur l’indice composé S&P/TSX ESG | C11: 200 | D11: 200
A12: SEG | B12: Contrats à terme sur l’indice S&P/TSX 60 ESG | C12: 125 | D12: 125
A13: SXA | B13: Contrats à terme sur indice aurifère global S&P/TSX | C13: 100 | D13: 100
A14: SXB | B14: Contrats à terme sur indice plafonné de la finance S&P/TSX | C14: 100 | D14: 100
A15: SXD | B15: Contrats à terme sur l’indice composé de rendement total S&P/TSX du secteur GICS de l’énergie | C15: 100 | D15: 100
A16: SXG | B16: Contrats à terme sur l’indice composé de rendement total S&P/TSX du secteur GICS de la finance | C16: 100 | D16: 100
... A24: SXY | B24: Contrats à terme sur indice plafonné de l'énergie S&P/TSX | C24: 100 | D24: 100
A30: ="IMPUTATIONS POUR POSITION MIXTE INTRA-MARCHANDISES INTERMENSUELLE SUR CONTRATS À TERME SUR ACTIONS EN VIGUEUR LE "&'OPTIONS - INTERVALLES DE MARGE'!A1 -> IMPUTATIONS POUR POSITION MIXTE INTRA-MARCHANDISES INTERMENSUELLE SUR CONTRATS À TERME SUR ACTIONS EN VIGUEUR LE 7 MAY 2026
A31: SYMBOLE | B31: NOM | C31: IMPUTATION (Position "Butterfly" Consecutive) PRÉCÉDENTE ($CAN) | D31: IMPUTATION (Position "Butterfly" Consecutive) MISE À JOUR ($CAN)
A33: FAA | B33: Groupe Aecon Inc. | C33: 75 | D33: 75
A34: FAE | B34: Mines Agnico Eagle Limitée | C34: 75 | D34: 75
A35: FAL | B35: AltaGas Ltd. | C35: 75 | D35: 75
A36: FAX | B36: ARC Resources Ltd. | C36: 75 | D36: 75
A37: FBA | B37: Barrick Mining Corporation | C37: 75 | D37: 75
A38: FBC | B38: BCE Inc. | C38: 75 | D38: 75
A39: FBO | B39: Banque de Montréal | C39: 75 | D39: 75
A40: FCB | B40: Banque Canadienne Impériale de Commerce | C40: 75 | D40: 75
A41: FCL | B41: AtkinsRéalis Group Inc | C41: 75 | D41: 75
A42: FCN | B42: Compagnie des chemins de fer nationaux du Canada | C42: 75 | D42: 75
A43: FCQ | B43: Canadian Natural Resources Limited | C43: 75 | D43: 75
A44: FCT | B44: Société Canadian Tire Limitée Classe A | C44: 75 | D44: 75
... A123: FZN | B123: FNB BMO S&P/TSX Capped Composite Index | C123: 75 | D123: 75

Sheet CAT - INTER-MARCHANDISES
A2: ="IMPUTATIONS POUR POSITION MIXTE INTER-MARCHANDISE DE CAT SUR TAUX D'INTÉRÊT EN VIGUEUR LE "&'OPTIONS - INTERVALLES DE MARGE'!A1 -> IMPUTATIONS POUR POSITION MIXTE INTER-MARCHANDISE DE CAT SUR TAUX D'INTÉRÊT EN VIGUEUR LE 7 MAY 2026
A3: SYMBOLES (Combinaisons) | B3: Hedge Ratio A | C3: Hedge Ratio B | D3: RÉDUCTION DE MARGE PRÉCÉDENTE | E3: RÉDUCTION DE MARGE MISE-À-JOUR
A5: CGB - CGF | B5: 1 | C5: 2 | D5: 0.84 | E5: 0.84
A6: CGB - LGB | B6: 3 | C6: 1 | D6: 0.73 | E6: 0.73
A7: CGF - CGZ | B7: 1 | C7: 3 | D7: 0.69 | E7: 0.69
A8: CGF - LGB | B8: 6 | C8: 1 | D8: 0.64 | E8: 0.64
A9: CGB - CGZ | B9: 1 | C9: 5 | D9: 0.62 | E9: 0.62
A10: CGZ - LGB | B10: 20 | C10: 1 | D10: 0.51 | E10: 0.51
A11: CRA - COA | B11: 2 | C11: 1 | D11: 0.04 | E11: 0.03
A17: ="IMPUTATIONS POUR POSITION MIXTE INTER-MARCHANDISE DE CAT SUR INDICES, SUR SECTEURS ET SUR ACTIONS EN VIGUEUR LE "&'OPTIONS - INTERVALLES DE MARGE'!A1 -> IMPUTATIONS POUR POSITION MIXTE INTER-MARCHANDISE DE CAT SUR INDICES, SUR SECTEURS ET SUR ACTIONS EN VIGUEUR LE 7 MAY 2026
A18: SYMBOLES (Combinaisons) | B18: Hedge Ratio A | C18: Hedge Ratio B | D18: RÉDUCTION DE MARGE PRÉCÉDENTE | E18: RÉDUCTION DE MARGE MISE-À-JOUR
A20: SXF - SXM | B20: 1 | C20: 4 | D20: 1 | E20: 1
A21: AXF - SCF | B21: 1 | C21: 2 | D21: 0.9 | E21: 0.9
A22: SXA - FXG | B22: 1 | C22: 32 | D22: 0.9 | E22: 0.9
A23: SXB - FXN | B23: 1 | C23: 16 | D23: 0.9 | E23: 0.9
A24: SXY - FEG | B24: 1 | C24: 31 | D24: 0.9 | E24: 0.9
A25: SXM - FIU | B25: 1 | C25: 20 | D25: 0.9 | E25: 0.9
A26: SXF - FIU | B26: 1 | C26: 80 | D26: 0.9 | E26: 0.9
A27: SXF - FXT | B27: 1 | C27: 45 | D27: 0.9 | E27: 0.9
A28: AXF - SXM | B28: 1 | C28: 4 | D28: 0.89 | E28: 0.89
A29: AXF - SXF | B29: 1 | C29: 1 | D29: 0.89 | E29: 0.89
A30: SCF - FZN | B30: 1 | C30: 37 | D30: 0.89 | E30: 0.89
A31: SCF - FIC | B31: 1 | C31: 31 | D31: 0.89 | E31: 0.89
... A260: SXF - FOC | B260: 1 | C260: 3 | D260: 0.16 | E260: 0.16
